BEGIN:VCALENDAR
VERSION:2.0
PRODID:-//Department Of Education//b122bb68-eb20-476d-80ba-77fdb363629d
BEGIN:VTIMEZONE
TZID:Australia/Sydney
TZURL:http://tzurl.org/zoneinfo-outlook/Australia/Sydney
X-LIC-LOCATION:Australia/Sydney
BEGIN:STANDARD
TZOFFSETFROM:+1100
TZOFFSETTO:+1000
TZNAME:AEST
DTSTART:19700405T030000
RRULE:FREQ=YEARLY;BYMONTH=4;BYDAY=1SU
END:STANDARD
BEGIN:DAYLIGHT
TZOFFSETFROM:+1000
TZOFFSETTO:+1100
TZNAME:AEDT
DTSTART:19701004T020000
RRULE:FREQ=YEARLY;BYMONTH=10;BYDAY=1SU
END:DAYLIGHT
END:VTIMEZONE
CALSCALE:GREGORIAN
X-WR-TIMEZONE:Australia/Sydney
BEGIN:VEVENT
DTSTART;VALUE=DATE:20200305
DTEND;VALUE=DATE:20200306
DTSTAMP:20200305T000000Z
UID:440f5d5a-1e35-4c3a-9ca4-a73271bf78ea
LOCATION:At School
SUMMARY;LANGUAGE=en-us:School Photo Day
SEQUENCE:0
DESCRIPTION:School photographs are scheduled to be taken by Advancedlife. An envelope and flyer will be distributed with a unique 9 digit order code to secure orders online. 
END:VEVENT
TRANSP:TRANSPARENT
END:VCALENDAR
