BEGIN:VCALENDAR
VERSION:2.0
PRODID:-//Department Of Education//ab1f7a20-7a56-488f-83e3-b5ae8bc68f15
BEGIN:VTIMEZONE
TZID:Australia/Sydney
TZURL:http://tzurl.org/zoneinfo-outlook/Australia/Sydney
X-LIC-LOCATION:Australia/Sydney
BEGIN:STANDARD
TZOFFSETFROM:+1100
TZOFFSETTO:+1000
TZNAME:AEST
DTSTART:19700405T030000
RRULE:FREQ=YEARLY;BYMONTH=4;BYDAY=1SU
END:STANDARD
BEGIN:DAYLIGHT
TZOFFSETFROM:+1000
TZOFFSETTO:+1100
TZNAME:AEDT
DTSTART:19701004T020000
RRULE:FREQ=YEARLY;BYMONTH=10;BYDAY=1SU
END:DAYLIGHT
END:VTIMEZONE
CALSCALE:GREGORIAN
X-WR-TIMEZONE:Australia/Sydney
BEGIN:VEVENT
DTSTART;VALUE=DATE:20200217
DTEND;VALUE=DATE:20200218
DTSTAMP:20200217T000000Z
UID:8f372f85-c7e6-4ca2-a31a-d39d335aa299
LOCATION:School Hall
SUMMARY;LANGUAGE=en-us:Years 5 & 6 Parent Information Night
SEQUENCE:0
DESCRIPTION:The evening aims to provide information about curriculum, classroom routines, management stategies and student welfare. 
END:VEVENT
TRANSP:TRANSPARENT
END:VCALENDAR
