BEGIN:VCALENDAR
VERSION:2.0
PRODID:-//Department Of Education//5569299a-bd02-425f-a500-cc1854595290
BEGIN:VTIMEZONE
TZID:Australia/Sydney
TZURL:http://tzurl.org/zoneinfo-outlook/Australia/Sydney
X-LIC-LOCATION:Australia/Sydney
BEGIN:STANDARD
TZOFFSETFROM:+1100
TZOFFSETTO:+1000
TZNAME:AEST
DTSTART:19700405T030000
RRULE:FREQ=YEARLY;BYMONTH=4;BYDAY=1SU
END:STANDARD
BEGIN:DAYLIGHT
TZOFFSETFROM:+1000
TZOFFSETTO:+1100
TZNAME:AEDT
DTSTART:19701004T020000
RRULE:FREQ=YEARLY;BYMONTH=10;BYDAY=1SU
END:DAYLIGHT
END:VTIMEZONE
CALSCALE:GREGORIAN
X-WR-TIMEZONE:Australia/Sydney
BEGIN:VEVENT
DTSTART;VALUE=DATE:20200219
DTEND;VALUE=DATE:20200220
DTSTAMP:20200219T000000Z
UID:76c07d0e-0db0-4b5c-838d-9eaefdd1de2a
LOCATION:School Hall
SUMMARY;LANGUAGE=en-us:Years 1 & 2 Parent Information Night
SEQUENCE:0
DESCRIPTION:The evening aims to provide information about curriculum, classroom routines, management strategies and student welfare.
END:VEVENT
TRANSP:TRANSPARENT
END:VCALENDAR
