BEGIN:VCALENDAR
VERSION:2.0
PRODID:-//Department Of Education//74d29ac0-bf4e-4f55-a11c-539f1046e80b
BEGIN:VTIMEZONE
TZID:Australia/Sydney
TZURL:http://tzurl.org/zoneinfo-outlook/Australia/Sydney
X-LIC-LOCATION:Australia/Sydney
BEGIN:STANDARD
TZOFFSETFROM:+1100
TZOFFSETTO:+1000
TZNAME:AEST
DTSTART:19700405T030000
RRULE:FREQ=YEARLY;BYMONTH=4;BYDAY=1SU
END:STANDARD
BEGIN:DAYLIGHT
TZOFFSETFROM:+1000
TZOFFSETTO:+1100
TZNAME:AEDT
DTSTART:19701004T020000
RRULE:FREQ=YEARLY;BYMONTH=10;BYDAY=1SU
END:DAYLIGHT
END:VTIMEZONE
CALSCALE:GREGORIAN
X-WR-TIMEZONE:Australia/Sydney
BEGIN:VEVENT
DTSTART;VALUE=DATE:20200218
DTEND;VALUE=DATE:20200219
DTSTAMP:20200218T000000Z
UID:7811db03-0a47-4418-ac0e-fbe1f814feb0
LOCATION:Manly Swim Centre
SUMMARY;LANGUAGE=en-us:Swimming Carnival
SEQUENCE:0
DESCRIPTION:Our 2020 Swimming Carnival for Year 2 students who turn 8 in 2020 and years 3-6 are expected to attend. Cost is $15 and buses depart school at 9.30am and return to school at 2.00pm.
END:VEVENT
TRANSP:TRANSPARENT
END:VCALENDAR
